BEGIN:VCALENDAR
VERSION:2.0
PRODID:-//ChamberMaster//Event Calendar 2.0//EN
METHOD:PUBLISH
X-PUBLISHED-TTL:P3D
REFRESH-INTERVAL:P3D
CALSCALE:GREGORIAN
BEGIN:VEVENT
DTSTART:20260511T113000Z
DTEND:20260511T133000Z
X-MICROSOFT-CDO-ALLDAYEVENT:FALSE
SUMMARY:Trails as Transportation. Building the Next Commuter Network
DESCRIPTION:For decades\, trails have been framed as recreational amenities. The next generation of planning is revealing something more powerful: trails as practical transportation infrastructure.\n\nAcross the Greater Philadelphia region\, the growing Circuit Trails network is quietly reshaping how people move between home\, work\, and town centers. With better connectors\, thoughtful municipal planning\, and employer engagement\, these corridors can become viable commuting route\, all reducing congestion\, lowering carbon emissions\, and expanding transportation choice.\n\nThis conversation invites leaders to think differently about trails. How are residents already using them for daily mobility? Where do data and travel patterns reveal untapped commuter potential? How can municipalities plan trail connections that link neighborhoods to employment centers\, transit stations\, and main streets? And how can employers support trail commuting as part of modern Transportation Demand Management strategies?\n\nChester County is uniquely positioned at the center of this opportunity. With strategic investments\, regional partnerships\, and emerging mobility data\, trails can evolve from scenic pathways into a meaningful part of the region's transportation system.\n\nThe question is no longer whether trails belong in transportation planning. The question is how quickly we can build the network that makes them work.
X-ALT-DESC;FMTTYPE=text/html:<p><span style="font-size:14px\;"><span style="font-family:tahoma\;">For decades\, trails have been framed as recreational amenities. The next generation of planning is revealing something more powerful: trails as practical transportation infrastructure.</span></span></p>\n\n<p><span style="font-size:14px\;"><span style="font-family:tahoma\;">Across the Greater Philadelphia region\, the growing <strong>Circuit Trails network</strong> is quietly reshaping how people move between home\, work\, and town centers. With better connectors\, thoughtful municipal planning\, and employer engagement\, these corridors can become viable commuting route\, all reducing congestion\, lowering carbon emissions\, and expanding transportation choice.</span></span></p>\n\n<p><span style="font-size:14px\;"><span style="font-family:tahoma\;">This conversation invites leaders to think differently about trails. How are residents already using them for daily mobility? Where do data and travel patterns reveal untapped commuter potential? How can municipalities plan trail connections that link neighborhoods to employment centers\, transit stations\, and main streets? And how can employers support trail commuting as part of modern Transportation Demand Management strategies?</span></span></p>\n\n<p><span style="font-size:14px\;"><span style="font-family:tahoma\;">Chester County is uniquely positioned at the center of this opportunity. With strategic investments\, regional partnerships\, and emerging mobility data\, trails can evolve from scenic pathways into a meaningful part of the region&rsquo\;s transportation system.</span></span></p>\n\n<p><span style="font-size:14px\;"><span style="font-family:tahoma\;">The question is no longer whether trails belong in transportation planning. The question is how quickly we can build the network that makes them work.</span></span></p>\n
LOCATION:The Desmond Hotel\, Malvern - 1 Liberty Blvd\, Malvern\, PA
UID:e.9224.489
SEQUENCE:3
DTSTAMP:20260421T005831Z
URL:http://tmacc.memberzone.com/events/details/trails-as-transportation-building-the-next-commuter-network-489
END:VEVENT

END:VCALENDAR
